BEGIN:VCALENDAR
VERSION:2.0
PRODID:-//time.you/holidays//NONSGML v1.0//EN
BEGIN:VEVENT
UID:ac4a4c30-4d87-4ca6-987c-767e2abea280
DTSTAMP:20260420T071246Z
DTSTART;VALUE=DATE:20260714
SUMMARY:National Day (Réunion)
END:VEVENT
END:VCALENDAR