BEGIN:VCALENDAR
VERSION:2.0
PRODID:-//time.you/holidays//NONSGML v1.0//EN
BEGIN:VEVENT
UID:27cd196a-a2e5-4a42-965f-c3656c638af3
DTSTAMP:20260421T035326Z
DTSTART;VALUE=DATE:20260525
SUMMARY:Whit Monday (Réunion)
END:VEVENT
END:VCALENDAR