BEGIN:VCALENDAR
VERSION:2.0
PRODID:-//time.you/holidays//NONSGML v1.0//EN
BEGIN:VEVENT
UID:58d3c806-0bb3-430b-a97a-b2cc276f263a
DTSTAMP:20260420T090335Z
DTSTART;VALUE=DATE:20260815
SUMMARY:Dormition of the Mother of God (Romania)
END:VEVENT
END:VCALENDAR