BEGIN:VCALENDAR
VERSION:2.0
PRODID:-//time.you/holidays//NONSGML v1.0//EN
BEGIN:VEVENT
UID:3c311ec4-9797-4cb8-98b4-17d47bac2b4f
DTSTAMP:20260420T082838Z
DTSTART;VALUE=DATE:20260106
SUMMARY:Epiphany (Romania)
END:VEVENT
END:VCALENDAR