BEGIN:VCALENDAR
VERSION:2.0
PRODID:-//time.you/holidays//NONSGML v1.0//EN
BEGIN:VEVENT
UID:c72c3ddf-105e-4958-963c-28fb05ee405a
DTSTAMP:20260423T093157Z
DTSTART;VALUE=DATE:20260501
SUMMARY:Labor Day (Romania)
END:VEVENT
END:VCALENDAR