BEGIN:VCALENDAR
VERSION:2.0
PRODID:-//time.you/holidays//NONSGML v1.0//EN
BEGIN:VEVENT
UID:f287c435-876a-4496-8da4-a4083a9aad98
DTSTAMP:20260420T125056Z
DTSTART;VALUE=DATE:20261130
SUMMARY:Saint Andrew's Day (Romania)
END:VEVENT
END:VCALENDAR