BEGIN:VCALENDAR
VERSION:2.0
PRODID:-//time.you/holidays//NONSGML v1.0//EN
BEGIN:VEVENT
UID:3215c3d3-9235-4d3b-92db-ac893cf9b498
DTSTAMP:20260421T170402Z
DTSTART;VALUE=DATE:20260107
SUMMARY:Saint John the Baptist (Romania)
END:VEVENT
END:VCALENDAR