BEGIN:VCALENDAR
VERSION:2.0
PRODID:-//time.you/holidays//NONSGML v1.0//EN
BEGIN:VEVENT
UID:6625988d-a69c-4bf4-967e-d9f76372924f
DTSTAMP:20260422T100535Z
DTSTART;VALUE=DATE:20250508
SUMMARY:Day off (substituted from 02/23/2025) (Russia)
END:VEVENT
END:VCALENDAR