BEGIN:VCALENDAR
VERSION:2.0
PRODID:-//time.you/holidays//NONSGML v1.0//EN
BEGIN:VEVENT
UID:a904acfc-b789-4ea7-917b-79bdac9b4278
DTSTAMP:20260425T032846Z
DTSTART;VALUE=DATE:20240430
SUMMARY:Day off (substituted from 11/02/2024) (Russia)
END:VEVENT
END:VCALENDAR