BEGIN:VCALENDAR
VERSION:2.0
PRODID:-//time.you/holidays//NONSGML v1.0//EN
BEGIN:VEVENT
UID:9df25831-a8e8-4925-991f-3475730411ba
DTSTAMP:20260422T051830Z
DTSTART;VALUE=DATE:20260101
SUMMARY:New Year Holidays (Russia)
END:VEVENT
END:VCALENDAR