BEGIN:VCALENDAR
VERSION:2.0
PRODID:-//time.you/holidays//NONSGML v1.0//EN
BEGIN:VEVENT
UID:d57446ea-1727-4166-b0cb-9b46f3f6b684
DTSTAMP:20260421T124332Z
DTSTART;VALUE=DATE:20260612
SUMMARY:Russia Day (Russia)
END:VEVENT
END:VCALENDAR