BEGIN:VCALENDAR
VERSION:2.0
PRODID:-//time.you/holidays//NONSGML v1.0//EN
BEGIN:VEVENT
UID:5979b0d9-016a-487f-8d1c-4b5aaaa5204a
DTSTAMP:20260420T163749Z
DTSTART;VALUE=DATE:20260509
SUMMARY:Victory Day (Russia)
END:VEVENT
END:VCALENDAR