BEGIN:VCALENDAR
VERSION:2.0
PRODID:-//time.you/holidays//NONSGML v1.0//EN
BEGIN:VEVENT
UID:52bdd50d-7505-4ca2-ba40-28660a08b2a1
DTSTAMP:20260423T205932Z
DTSTART;VALUE=DATE:20260817
SUMMARY:Assumption Day (observed) (Rwanda)
END:VEVENT
END:VCALENDAR