BEGIN:VCALENDAR
VERSION:2.0
PRODID:-//time.you/holidays//NONSGML v1.0//EN
BEGIN:VEVENT
UID:fca5b6aa-549f-4bbf-849e-839fb526ef0f
DTSTAMP:20260425T030725Z
DTSTART;VALUE=DATE:20260815
SUMMARY:Assumption Day (Rwanda)
END:VEVENT
END:VCALENDAR