BEGIN:VCALENDAR
VERSION:2.0
PRODID:-//time.you/holidays//NONSGML v1.0//EN
BEGIN:VEVENT
UID:593eba82-bce3-43e0-b358-014089939513
DTSTAMP:20260420T094740Z
DTSTART;VALUE=DATE:20261226
SUMMARY:Boxing Day (Rwanda)
END:VEVENT
END:VCALENDAR