BEGIN:VCALENDAR
VERSION:2.0
PRODID:-//time.you/holidays//NONSGML v1.0//EN
BEGIN:VEVENT
UID:a49801af-5b9e-40fc-9bf5-d0a6457457f6
DTSTAMP:20260421T075545Z
DTSTART;VALUE=DATE:20260406
SUMMARY:Easter Monday (Rwanda)
END:VEVENT
END:VCALENDAR