BEGIN:VCALENDAR
VERSION:2.0
PRODID:-//time.you/holidays//NONSGML v1.0//EN
BEGIN:VEVENT
UID:512ab91d-b168-4b2f-981f-f216fff3dbeb
DTSTAMP:20260420T115729Z
DTSTART;VALUE=DATE:20260527
SUMMARY:Eid al-Adha (estimated) (Rwanda)
END:VEVENT
END:VCALENDAR