BEGIN:VCALENDAR
VERSION:2.0
PRODID:-//time.you/holidays//NONSGML v1.0//EN
BEGIN:VEVENT
UID:2895a4e9-c974-4398-a6d0-5c2f279ede48
DTSTAMP:20260421T092546Z
DTSTART;VALUE=DATE:20250606
SUMMARY:Eid al-Adha (Rwanda)
END:VEVENT
END:VCALENDAR