BEGIN:VCALENDAR
VERSION:2.0
PRODID:-//time.you/holidays//NONSGML v1.0//EN
BEGIN:VEVENT
UID:b877975c-4170-45a6-993b-2786377c3eb8
DTSTAMP:20260424T005848Z
DTSTART;VALUE=DATE:20280703
SUMMARY:Independence Day (observed) (Rwanda)
END:VEVENT
END:VCALENDAR