BEGIN:VCALENDAR
VERSION:2.0
PRODID:-//time.you/holidays//NONSGML v1.0//EN
BEGIN:VEVENT
UID:be26bc06-f26f-4183-90a9-3d3c091a2936
DTSTAMP:20260421T104827Z
DTSTART;VALUE=DATE:20270503
SUMMARY:Labor Day (observed) (Rwanda)
END:VEVENT
END:VCALENDAR