BEGIN:VCALENDAR
VERSION:2.0
PRODID:-//time.you/holidays//NONSGML v1.0//EN
BEGIN:VEVENT
UID:fc5dcf05-dda3-498c-a06c-a6f9803d98a4
DTSTAMP:20260423T162742Z
DTSTART;VALUE=DATE:20260501
SUMMARY:Labor Day (Rwanda)
END:VEVENT
END:VCALENDAR