BEGIN:VCALENDAR
VERSION:2.0
PRODID:-//time.you/holidays//NONSGML v1.0//EN
BEGIN:VEVENT
UID:8e83fa7d-86b5-400d-84fe-ae172d54f9ff
DTSTAMP:20260424T041947Z
DTSTART;VALUE=DATE:20260202
SUMMARY:National Heroes' Day (observed) (Rwanda)
END:VEVENT
END:VCALENDAR