BEGIN:VCALENDAR
VERSION:2.0
PRODID:-//time.you/holidays//NONSGML v1.0//EN
BEGIN:VEVENT
UID:0b566d7b-0936-4a05-a8c7-b048e375c38d
DTSTAMP:20260420T095749Z
DTSTART;VALUE=DATE:20260101
SUMMARY:New Year's Day (Rwanda)
END:VEVENT
END:VCALENDAR