BEGIN:VCALENDAR
VERSION:2.0
PRODID:-//time.you/holidays//NONSGML v1.0//EN
BEGIN:VEVENT
UID:c93dab01-2a04-447e-b413-8ec3829af4a3
DTSTAMP:20260422T100541Z
DTSTART;VALUE=DATE:20260807
SUMMARY:Umuganura Day (Rwanda)
END:VEVENT
END:VCALENDAR