BEGIN:VCALENDAR
VERSION:2.0
PRODID:-//time.you/holidays//NONSGML v1.0//EN
BEGIN:VEVENT
UID:128080de-1cb8-45c0-b002-9dc1ec424a38
DTSTAMP:20260419T234151Z
DTSTART;VALUE=DATE:20261101
SUMMARY:All Saints' Day (Saint Barthélemy)
END:VEVENT
END:VCALENDAR