BEGIN:VCALENDAR
VERSION:2.0
PRODID:-//time.you/holidays//NONSGML v1.0//EN
BEGIN:VEVENT
UID:428131bf-b1a1-4c11-a136-a804091d9454
DTSTAMP:20260421T171318Z
DTSTART;VALUE=DATE:20261111
SUMMARY:Armistice Day (Saint Barthélemy)
END:VEVENT
END:VCALENDAR