BEGIN:VCALENDAR
VERSION:2.0
PRODID:-//time.you/holidays//NONSGML v1.0//EN
BEGIN:VEVENT
UID:852ac660-8368-47d7-bb27-a5b72c99d07e
DTSTAMP:20260421T064315Z
DTSTART;VALUE=DATE:20260815
SUMMARY:Assumption Day (Saint Barthélemy)
END:VEVENT
END:VCALENDAR