BEGIN:VCALENDAR
VERSION:2.0
PRODID:-//time.you/holidays//NONSGML v1.0//EN
BEGIN:VEVENT
UID:1c7d0468-4675-45a6-a691-a695c0d7929a
DTSTAMP:20260424T091552Z
DTSTART;VALUE=DATE:20260406
SUMMARY:Easter Monday (Saint Barthélemy)
END:VEVENT
END:VCALENDAR