BEGIN:VCALENDAR
VERSION:2.0
PRODID:-//time.you/holidays//NONSGML v1.0//EN
BEGIN:VEVENT
UID:e0c9bf2a-0b1b-4538-9fc5-2b61ed1f840f
DTSTAMP:20260420T002124Z
DTSTART;VALUE=DATE:20260501
SUMMARY:Labor Day (Saint Barthélemy)
END:VEVENT
END:VCALENDAR