BEGIN:VCALENDAR
VERSION:2.0
PRODID:-//time.you/holidays//NONSGML v1.0//EN
BEGIN:VEVENT
UID:317a2a3f-02e4-4109-b387-d16102bf3bb0
DTSTAMP:20260422T071122Z
DTSTART;VALUE=DATE:20260508
SUMMARY:Victory Day (Saint Barthélemy)
END:VEVENT
END:VCALENDAR