BEGIN:VCALENDAR
VERSION:2.0
PRODID:-//time.you/holidays//NONSGML v1.0//EN
BEGIN:VEVENT
UID:e183a9dc-6d77-428f-aafb-cb6749347417
DTSTAMP:20260424T080716Z
DTSTART;VALUE=DATE:20260525
SUMMARY:Whit Monday (Saint Barthélemy)
END:VEVENT
END:VCALENDAR