BEGIN:VCALENDAR
VERSION:2.0
PRODID:-//time.you/holidays//NONSGML v1.0//EN
BEGIN:VEVENT
UID:7e4764c3-c980-4e87-a574-d21f8773ac07
DTSTAMP:20260424T164716Z
DTSTART;VALUE=DATE:20220919
SUMMARY:Queen Elizabeth II's State Funeral (Saint Helena, Ascension and Tristan da Cunha)
END:VEVENT
END:VCALENDAR