BEGIN:VCALENDAR
VERSION:2.0
PRODID:-//time.you/holidays//NONSGML v1.0//EN
BEGIN:VEVENT
UID:527baa0c-edb1-452c-bf8c-f860296032ba
DTSTAMP:20260421T230402Z
DTSTART;VALUE=DATE:20280522
SUMMARY:Saint Helena Day (observed) (Saint Helena, Ascension and Tristan da Cunha)
END:VEVENT
END:VCALENDAR