BEGIN:VCALENDAR
VERSION:2.0
PRODID:-//time.you/holidays//NONSGML v1.0//EN
BEGIN:VEVENT
UID:e33a24b2-1d6c-472a-9e83-c28103b47498
DTSTAMP:20260421T184245Z
DTSTART;VALUE=DATE:20260521
SUMMARY:Saint Helena Day (Saint Helena, Ascension and Tristan da Cunha)
END:VEVENT
END:VCALENDAR