BEGIN:VCALENDAR
VERSION:2.0
PRODID:-//time.you/holidays//NONSGML v1.0//EN
BEGIN:VEVENT
UID:bf2037da-1d5a-4a82-ae0c-db821ee1003e
DTSTAMP:20260421T215348Z
DTSTART;VALUE=DATE:20271227
SUMMARY:Boxing Day (observed) (Saint Kitts and Nevis)
END:VEVENT
END:VCALENDAR