BEGIN:VCALENDAR
VERSION:2.0
PRODID:-//time.you/holidays//NONSGML v1.0//EN
BEGIN:VEVENT
UID:c1779a4f-470e-48c9-8275-501d2651de21
DTSTAMP:20260421T235816Z
DTSTART;VALUE=DATE:20260102
SUMMARY:Carnival Day - Last Lap (Saint Kitts and Nevis)
END:VEVENT
END:VCALENDAR