BEGIN:VCALENDAR
VERSION:2.0
PRODID:-//time.you/holidays//NONSGML v1.0//EN
BEGIN:VEVENT
UID:235634ee-8ec7-4d8c-8b49-511a3b5bde64
DTSTAMP:20260422T070837Z
DTSTART;VALUE=DATE:20220808
SUMMARY:Federal Election Victory Day (Saint Kitts and Nevis)
END:VEVENT
END:VCALENDAR