BEGIN:VCALENDAR
VERSION:2.0
PRODID:-//time.you/holidays//NONSGML v1.0//EN
BEGIN:VEVENT
UID:ed829f9a-eb58-4f25-871e-5674a62ba8a6
DTSTAMP:20260420T084636Z
DTSTART;VALUE=DATE:20260504
SUMMARY:Labour Day (Saint Kitts and Nevis)
END:VEVENT
END:VCALENDAR