BEGIN:VCALENDAR
VERSION:2.0
PRODID:-//time.you/holidays//NONSGML v1.0//EN
BEGIN:VEVENT
UID:cb797b15-581e-4cb2-a65b-3434165cb6b4
DTSTAMP:20260421T222950Z
DTSTART;VALUE=DATE:20261226
SUMMARY:Boxing Day (Saint Lucia)
END:VEVENT
END:VCALENDAR