BEGIN:VCALENDAR
VERSION:2.0
PRODID:-//time.you/holidays//NONSGML v1.0//EN
BEGIN:VEVENT
UID:b44df715-c1cf-407b-bc99-a3053701756e
DTSTAMP:20260421T193914Z
DTSTART;VALUE=DATE:20331227
SUMMARY:Christmas Day (observed) (Saint Lucia)
END:VEVENT
END:VCALENDAR