BEGIN:VCALENDAR
VERSION:2.0
PRODID:-//time.you/holidays//NONSGML v1.0//EN
BEGIN:VEVENT
UID:7f64e5f8-0877-49f4-ab8b-cc8372dd5f86
DTSTAMP:20260424T200836Z
DTSTART;VALUE=DATE:20260222
SUMMARY:Independence Day (Saint Lucia)
END:VEVENT
END:VCALENDAR