BEGIN:VCALENDAR
VERSION:2.0
PRODID:-//time.you/holidays//NONSGML v1.0//EN
BEGIN:VEVENT
UID:a31a6a6d-b931-4ede-bc03-027c07f6aed0
DTSTAMP:20260421T202759Z
DTSTART;VALUE=DATE:20330502
SUMMARY:Labor Day (observed) (Saint Lucia)
END:VEVENT
END:VCALENDAR