BEGIN:VCALENDAR
VERSION:2.0
PRODID:-//time.you/holidays//NONSGML v1.0//EN
BEGIN:VEVENT
UID:143badee-58f5-41f1-8cb2-daed48bf9bd6
DTSTAMP:20260420T154234Z
DTSTART;VALUE=DATE:20260501
SUMMARY:Labor Day (Saint Lucia)
END:VEVENT
END:VCALENDAR