BEGIN:VCALENDAR
VERSION:2.0
PRODID:-//time.you/holidays//NONSGML v1.0//EN
BEGIN:VEVENT
UID:f4ed08c2-d863-494f-b920-5aacd999d180
DTSTAMP:20260422T090405Z
DTSTART;VALUE=DATE:20260528
SUMMARY:Abolition of Slavery (Saint Martin (French part))
END:VEVENT
END:VCALENDAR