BEGIN:VCALENDAR
VERSION:2.0
PRODID:-//time.you/holidays//NONSGML v1.0//EN
BEGIN:VEVENT
UID:a160837f-bc9f-4fac-a4a3-766079dc18ba
DTSTAMP:20260420T062526Z
DTSTART;VALUE=DATE:20261101
SUMMARY:All Saints' Day (Saint Martin (French part))
END:VEVENT
END:VCALENDAR