BEGIN:VCALENDAR
VERSION:2.0
PRODID:-//time.you/holidays//NONSGML v1.0//EN
BEGIN:VEVENT
UID:e318808f-3cf2-4bcb-a402-90952637188f
DTSTAMP:20260421T235725Z
DTSTART;VALUE=DATE:20260815
SUMMARY:Assumption Day (Saint Martin (French part))
END:VEVENT
END:VCALENDAR