BEGIN:VCALENDAR
VERSION:2.0
PRODID:-//time.you/holidays//NONSGML v1.0//EN
BEGIN:VEVENT
UID:f70178f6-c21d-4425-95e9-055b6897d98c
DTSTAMP:20260420T013828Z
DTSTART;VALUE=DATE:20260501
SUMMARY:Labor Day (Saint Martin (French part))
END:VEVENT
END:VCALENDAR