BEGIN:VCALENDAR
VERSION:2.0
PRODID:-//time.you/holidays//NONSGML v1.0//EN
BEGIN:VEVENT
UID:00c33a8b-b499-4728-980e-24faca3aa085
DTSTAMP:20260419T235542Z
DTSTART;VALUE=DATE:20261101
SUMMARY:All Saints' Day (Saint Pierre and Miquelon)
END:VEVENT
END:VCALENDAR