BEGIN:VCALENDAR
VERSION:2.0
PRODID:-//time.you/holidays//NONSGML v1.0//EN
BEGIN:VEVENT
UID:6c0a166b-85d7-4f4c-b8fa-82d6b7b9f2e2
DTSTAMP:20260422T001830Z
DTSTART;VALUE=DATE:20261111
SUMMARY:Armistice Day (Saint Pierre and Miquelon)
END:VEVENT
END:VCALENDAR