BEGIN:VCALENDAR
VERSION:2.0
PRODID:-//time.you/holidays//NONSGML v1.0//EN
BEGIN:VEVENT
UID:bbef2c9a-6969-483e-bf50-8976f76c55a1
DTSTAMP:20260420T071836Z
DTSTART;VALUE=DATE:20260514
SUMMARY:Ascension Day (Saint Pierre and Miquelon)
END:VEVENT
END:VCALENDAR